BEGIN:VCALENDAR
VERSION:2.0
PRODID:-//Tukios.com/
BEGIN:VEVENT
UID:90936656-f7f9-4c25-968a-745baf34a13f@www.riddlefuneralhome.com
DTSTAMP:20260423T203426Z
DTSTART:20260430T163000Z
DTEND:20260430T173000Z
SUMMARY:Graveside Service
DESCRIPTION:
URL:https://www.riddlefuneralhome.com/obituaries/jason-peters
LOCATION: 10175 Rawiga Road  Seville OH 44273
GEO:40.9958882;-81.8152461
END:VEVENT
END:VCALENDAR